BEGIN:VCALENDAR
VERSION:2.0
PRODID:-//de Project Academie - ECPv6.15.20//NONSGML v1.0//EN
CALSCALE:GREGORIAN
METHOD:PUBLISH
X-ORIGINAL-URL:https://deprojectacademie.nl
X-WR-CALDESC:Evenementen voor de Project Academie
REFRESH-INTERVAL;VALUE=DURATION:PT1H
X-Robots-Tag:noindex
X-PUBLISHED-TTL:PT1H
BEGIN:VTIMEZONE
TZID:UTC
BEGIN:STANDARD
TZOFFSETFROM:+0000
TZOFFSETTO:+0000
TZNAME:UTC
DTSTART:20250101T000000
END:STANDARD
END:VTIMEZONE
BEGIN:VEVENT
DTSTART;VALUE=DATE:20260513
DTEND;VALUE=DATE:20260528
DTSTAMP:20260422T125914
CREATED:20260326T140449Z
LAST-MODIFIED:20260326T140449Z
UID:3617-1778630400-1779926399@deprojectacademie.nl
SUMMARY:Leading SAFe®
DESCRIPTION:SAFe is een organisatieraamwerk voor grotere organisaties waar meerdere teams samenwerken aan complexe producten in veranderlijke omgevingen. De training wordt in 2 dagen gegeven. \nBekijk hier de uitgebreide beschrijving van de training. \nTrainingsdagen: \n\n13 mei 2026\n27 mei 2026\n\nDe prijs van de training is exclusief btw. \n 
URL:https://deprojectacademie.nl/agenda/leading-safe/
LOCATION:Utrecht
CATEGORIES:Agenda
ATTACH;FMTTYPE=image/jpeg:https://deprojectacademie.nl/wp-content/uploads/2023/07/standard-quality-control-concept-m.jpg
END:VEVENT
END:VCALENDAR